BEGIN:VCALENDAR
VERSION:2.0
PRODID:-//Chilton County Alabama - ECPv6.15.20//NONSGML v1.0//EN
CALSCALE:GREGORIAN
METHOD:PUBLISH
X-WR-CALNAME:Chilton County Alabama
X-ORIGINAL-URL:https://chiltoncounty.org
X-WR-CALDESC:Events for Chilton County Alabama
REFRESH-INTERVAL;VALUE=DURATION:PT1H
X-Robots-Tag:noindex
X-PUBLISHED-TTL:PT1H
BEGIN:VTIMEZONE
TZID:America/Chicago
BEGIN:DAYLIGHT
TZOFFSETFROM:-0600
TZOFFSETTO:-0500
TZNAME:CDT
DTSTART:20250309T080000
END:DAYLIGHT
BEGIN:STANDARD
TZOFFSETFROM:-0500
TZOFFSETTO:-0600
TZNAME:CST
DTSTART:20251102T070000
END:STANDARD
BEGIN:DAYLIGHT
TZOFFSETFROM:-0600
TZOFFSETTO:-0500
TZNAME:CDT
DTSTART:20260308T080000
END:DAYLIGHT
BEGIN:STANDARD
TZOFFSETFROM:-0500
TZOFFSETTO:-0600
TZNAME:CST
DTSTART:20261101T070000
END:STANDARD
BEGIN:DAYLIGHT
TZOFFSETFROM:-0600
TZOFFSETTO:-0500
TZNAME:CDT
DTSTART:20270314T080000
END:DAYLIGHT
BEGIN:STANDARD
TZOFFSETFROM:-0500
TZOFFSETTO:-0600
TZNAME:CST
DTSTART:20271107T070000
END:STANDARD
END:VTIMEZONE
BEGIN:VEVENT
DTSTART;TZID=America/Chicago:20260427T080000
DTEND;TZID=America/Chicago:20260427T170000
DTSTAMP:20260422T102727
CREATED:20250924T183447Z
LAST-MODIFIED:20250924T183447Z
UID:10000265-1777276800-1777309200@chiltoncounty.org
SUMMARY:Confederate Memorial Day (Closed)
DESCRIPTION:
URL:https://chiltoncounty.org/event/confederate-memorial-day-closed/
CATEGORIES:Holidays
END:VEVENT
BEGIN:VEVENT
DTSTART;TZID=America/Chicago:20260525T080000
DTEND;TZID=America/Chicago:20260525T170000
DTSTAMP:20260422T102727
CREATED:20250924T183535Z
LAST-MODIFIED:20250924T183535Z
UID:10000266-1779696000-1779728400@chiltoncounty.org
SUMMARY:Memorial Day (Closed)
DESCRIPTION:
URL:https://chiltoncounty.org/event/memorial-day-closed/
CATEGORIES:Holidays
END:VEVENT
BEGIN:VEVENT
DTSTART;TZID=America/Chicago:20260601T080000
DTEND;TZID=America/Chicago:20260601T170000
DTSTAMP:20260422T102727
CREATED:20250924T183703Z
LAST-MODIFIED:20250924T183703Z
UID:10000267-1780300800-1780333200@chiltoncounty.org
SUMMARY:Jefferson Davis's Birthday (Closed)
DESCRIPTION:
URL:https://chiltoncounty.org/event/jefferson-daviss-birthday-closed/
CATEGORIES:Holidays
END:VEVENT
BEGIN:VEVENT
DTSTART;TZID=America/Chicago:20260619T080000
DTEND;TZID=America/Chicago:20260619T170000
DTSTAMP:20260422T102727
CREATED:20250924T183755Z
LAST-MODIFIED:20250924T183755Z
UID:10000268-1781856000-1781888400@chiltoncounty.org
SUMMARY:Juneteenth (Closed)
DESCRIPTION:
URL:https://chiltoncounty.org/event/juneteenth-closed/
CATEGORIES:Holidays
END:VEVENT
BEGIN:VEVENT
DTSTART;TZID=America/Chicago:20260703T080000
DTEND;TZID=America/Chicago:20260703T170000
DTSTAMP:20260422T102727
CREATED:20250924T183901Z
LAST-MODIFIED:20250924T183901Z
UID:10000269-1783065600-1783098000@chiltoncounty.org
SUMMARY:Independence Day (Closed)
DESCRIPTION:
URL:https://chiltoncounty.org/event/independence-day-closed/
CATEGORIES:Holidays
END:VEVENT
BEGIN:VEVENT
DTSTART;TZID=America/Chicago:20260907T080000
DTEND;TZID=America/Chicago:20260907T170000
DTSTAMP:20260422T102727
CREATED:20250924T183959Z
LAST-MODIFIED:20250924T183959Z
UID:10000270-1788768000-1788800400@chiltoncounty.org
SUMMARY:Labor Day (Closed)
DESCRIPTION:
URL:https://chiltoncounty.org/event/labor-day-closed/
CATEGORIES:Holidays
END:VEVENT
END:VCALENDAR